BEGIN:VCALENDAR
VERSION:2.0
PRODID:-//Mental Health First Aid - ECPv6.15.16.1//NONSGML v1.0//EN
CALSCALE:GREGORIAN
METHOD:PUBLISH
X-WR-CALNAME:Mental Health First Aid
X-ORIGINAL-URL:https://staging.grafik.mentalhealthfirstaid.org
X-WR-CALDESC:Events for Mental Health First Aid
REFRESH-INTERVAL;VALUE=DURATION:PT1H
X-Robots-Tag:noindex
X-PUBLISHED-TTL:PT1H
BEGIN:VTIMEZONE
TZID:America/Chicago
BEGIN:DAYLIGHT
TZOFFSETFROM:-0600
TZOFFSETTO:-0500
TZNAME:CDT
DTSTART:20250309T080000
END:DAYLIGHT
BEGIN:STANDARD
TZOFFSETFROM:-0500
TZOFFSETTO:-0600
TZNAME:CST
DTSTART:20251102T070000
END:STANDARD
BEGIN:DAYLIGHT
TZOFFSETFROM:-0600
TZOFFSETTO:-0500
TZNAME:CDT
DTSTART:20260308T080000
END:DAYLIGHT
BEGIN:STANDARD
TZOFFSETFROM:-0500
TZOFFSETTO:-0600
TZNAME:CST
DTSTART:20261101T070000
END:STANDARD
BEGIN:DAYLIGHT
TZOFFSETFROM:-0600
TZOFFSETTO:-0500
TZNAME:CDT
DTSTART:20270314T080000
END:DAYLIGHT
BEGIN:STANDARD
TZOFFSETFROM:-0500
TZOFFSETTO:-0600
TZNAME:CST
DTSTART:20271107T070000
END:STANDARD
END:VTIMEZONE
BEGIN:VTIMEZONE
TZID:America/New_York
BEGIN:DAYLIGHT
TZOFFSETFROM:-0500
TZOFFSETTO:-0400
TZNAME:EDT
DTSTART:20250309T070000
END:DAYLIGHT
BEGIN:STANDARD
TZOFFSETFROM:-0400
TZOFFSETTO:-0500
TZNAME:EST
DTSTART:20251102T060000
END:STANDARD
BEGIN:DAYLIGHT
TZOFFSETFROM:-0500
TZOFFSETTO:-0400
TZNAME:EDT
DTSTART:20260308T070000
END:DAYLIGHT
BEGIN:STANDARD
TZOFFSETFROM:-0400
TZOFFSETTO:-0500
TZNAME:EST
DTSTART:20261101T060000
END:STANDARD
BEGIN:DAYLIGHT
TZOFFSETFROM:-0500
TZOFFSETTO:-0400
TZNAME:EDT
DTSTART:20270314T070000
END:DAYLIGHT
BEGIN:STANDARD
TZOFFSETFROM:-0400
TZOFFSETTO:-0500
TZNAME:EST
DTSTART:20271107T060000
END:STANDARD
END:VTIMEZONE
BEGIN:VEVENT
DTSTART;TZID=America/Chicago:20260126T090000
DTEND;TZID=America/Chicago:20260128T170000
DTSTAMP:20260421T190447
CREATED:20251223T194937Z
LAST-MODIFIED:20251223T194937Z
UID:26604-1769418000-1769619600@staging.grafik.mentalhealthfirstaid.org
SUMMARY:Adult Instructor Training
DESCRIPTION:Take our 3-day Adult MHFA Instructor training and learn how to teach adults how to help other adults in your community.
URL:https://staging.grafik.mentalhealthfirstaid.org/event/adult-instructor-training-8/
END:VEVENT
BEGIN:VEVENT
DTSTART;TZID=America/New_York:20260127T090000
DTEND;TZID=America/New_York:20260129T170000
DTSTAMP:20260421T190447
CREATED:20251223T194938Z
LAST-MODIFIED:20251223T194938Z
UID:26605-1769504400-1769706000@staging.grafik.mentalhealthfirstaid.org
SUMMARY:Adult Instructor Training
DESCRIPTION:Take our 3-day Adult MHFA Instructor training and learn how to teach adults how to help other adults in your community.
URL:https://staging.grafik.mentalhealthfirstaid.org/event/adult-instructor-training-9/
END:VEVENT
BEGIN:VEVENT
DTSTART;TZID=America/Chicago:20260127T090000
DTEND;TZID=America/Chicago:20260129T170000
DTSTAMP:20260421T190447
CREATED:20251223T194939Z
LAST-MODIFIED:20251223T194939Z
UID:26606-1769504400-1769706000@staging.grafik.mentalhealthfirstaid.org
SUMMARY:Youth Instructor Training
DESCRIPTION:Take our 3-day Youth MHFA Instructor training and learn how to teach adults how to help youth in your community.
URL:https://staging.grafik.mentalhealthfirstaid.org/event/youth-instructor-training-8/
END:VEVENT
BEGIN:VEVENT
DTSTART;TZID=America/Chicago:20260128T090000
DTEND;TZID=America/Chicago:20260130T170000
DTSTAMP:20260421T190447
CREATED:20251223T194940Z
LAST-MODIFIED:20251223T194940Z
UID:26607-1769590800-1769792400@staging.grafik.mentalhealthfirstaid.org
SUMMARY:Adult Instructor Training
DESCRIPTION:Take our 3-day Adult MHFA Instructor training and learn how to teach adults how to help other adults in your community.
URL:https://staging.grafik.mentalhealthfirstaid.org/event/adult-instructor-training-10/
END:VEVENT
BEGIN:VEVENT
DTSTART;TZID=America/New_York:20260128T090000
DTEND;TZID=America/New_York:20260130T170000
DTSTAMP:20260421T190447
CREATED:20251223T194941Z
LAST-MODIFIED:20251223T194941Z
UID:26608-1769590800-1769792400@staging.grafik.mentalhealthfirstaid.org
SUMMARY:Youth Instructor Training
DESCRIPTION:Take our 3-day Youth MHFA Instructor training and learn how to teach adults how to help youth in your community.
URL:https://staging.grafik.mentalhealthfirstaid.org/event/youth-instructor-training-9/
END:VEVENT
END:VCALENDAR