BEGIN:VCALENDAR
VERSION:2.0
PRODID:-//Mental Health First Aid - ECPv6.15.16.1//NONSGML v1.0//EN
CALSCALE:GREGORIAN
METHOD:PUBLISH
X-ORIGINAL-URL:https://staging.grafik.mentalhealthfirstaid.org/es
X-WR-CALDESC:Eventos para Mental Health First Aid
REFRESH-INTERVAL;VALUE=DURATION:PT1H
X-Robots-Tag:noindex
X-PUBLISHED-TTL:PT1H
BEGIN:VTIMEZONE
TZID:America/New_York
BEGIN:DAYLIGHT
TZOFFSETFROM:-0500
TZOFFSETTO:-0400
TZNAME:EDT
DTSTART:20250309T070000
END:DAYLIGHT
BEGIN:STANDARD
TZOFFSETFROM:-0400
TZOFFSETTO:-0500
TZNAME:EST
DTSTART:20251102T060000
END:STANDARD
BEGIN:DAYLIGHT
TZOFFSETFROM:-0500
TZOFFSETTO:-0400
TZNAME:EDT
DTSTART:20260308T070000
END:DAYLIGHT
BEGIN:STANDARD
TZOFFSETFROM:-0400
TZOFFSETTO:-0500
TZNAME:EST
DTSTART:20261101T060000
END:STANDARD
BEGIN:DAYLIGHT
TZOFFSETFROM:-0500
TZOFFSETTO:-0400
TZNAME:EDT
DTSTART:20270314T070000
END:DAYLIGHT
BEGIN:STANDARD
TZOFFSETFROM:-0400
TZOFFSETTO:-0500
TZNAME:EST
DTSTART:20271107T060000
END:STANDARD
END:VTIMEZONE
BEGIN:VTIMEZONE
TZID:America/Chicago
BEGIN:DAYLIGHT
TZOFFSETFROM:-0600
TZOFFSETTO:-0500
TZNAME:CDT
DTSTART:20250309T080000
END:DAYLIGHT
BEGIN:STANDARD
TZOFFSETFROM:-0500
TZOFFSETTO:-0600
TZNAME:CST
DTSTART:20251102T070000
END:STANDARD
BEGIN:DAYLIGHT
TZOFFSETFROM:-0600
TZOFFSETTO:-0500
TZNAME:CDT
DTSTART:20260308T080000
END:DAYLIGHT
BEGIN:STANDARD
TZOFFSETFROM:-0500
TZOFFSETTO:-0600
TZNAME:CST
DTSTART:20261101T070000
END:STANDARD
BEGIN:DAYLIGHT
TZOFFSETFROM:-0600
TZOFFSETTO:-0500
TZNAME:CDT
DTSTART:20270314T080000
END:DAYLIGHT
BEGIN:STANDARD
TZOFFSETFROM:-0500
TZOFFSETTO:-0600
TZNAME:CST
DTSTART:20271107T070000
END:STANDARD
END:VTIMEZONE
BEGIN:VEVENT
DTSTART;TZID=America/New_York:20260302T090000
DTEND;TZID=America/New_York:20260304T170000
DTSTAMP:20260421T171655
CREATED:20260127T163721Z
LAST-MODIFIED:20260127T163721Z
UID:26673-1772442000-1772643600@staging.grafik.mentalhealthfirstaid.org
SUMMARY:Adult Instructor Training
DESCRIPTION:
URL:https://staging.grafik.mentalhealthfirstaid.org/es/event/adult-instructor-training-24/
END:VEVENT
BEGIN:VEVENT
DTSTART;TZID=America/Chicago:20260303T090000
DTEND;TZID=America/Chicago:20260305T170000
DTSTAMP:20260421T171655
CREATED:20260127T163723Z
LAST-MODIFIED:20260127T163723Z
UID:26674-1772528400-1772730000@staging.grafik.mentalhealthfirstaid.org
SUMMARY:Adult Instructor Training
DESCRIPTION:
URL:https://staging.grafik.mentalhealthfirstaid.org/es/event/adult-instructor-training-25/
END:VEVENT
BEGIN:VEVENT
DTSTART;TZID=America/New_York:20260303T090000
DTEND;TZID=America/New_York:20260305T170000
DTSTAMP:20260421T171655
CREATED:20260127T163750Z
LAST-MODIFIED:20260127T163750Z
UID:26686-1772528400-1772730000@staging.grafik.mentalhealthfirstaid.org
SUMMARY:Youth Instructor Training
DESCRIPTION:
URL:https://staging.grafik.mentalhealthfirstaid.org/es/event/youth-instructor-training-19/
END:VEVENT
END:VCALENDAR